BEGIN:VCALENDAR
VERSION:2.0
PRODID:-//archeoaltena.nl - ECPv6.15.20//NONSGML v1.0//EN
CALSCALE:GREGORIAN
METHOD:PUBLISH
X-ORIGINAL-URL:https://archeoaltena.nl
X-WR-CALDESC:Evenementen voor archeoaltena.nl
REFRESH-INTERVAL;VALUE=DURATION:PT1H
X-Robots-Tag:noindex
X-PUBLISHED-TTL:PT1H
BEGIN:VTIMEZONE
TZID:Europe/Amsterdam
BEGIN:DAYLIGHT
TZOFFSETFROM:+0100
TZOFFSETTO:+0200
TZNAME:CEST
DTSTART:20230326T010000
END:DAYLIGHT
BEGIN:STANDARD
TZOFFSETFROM:+0200
TZOFFSETTO:+0100
TZNAME:CET
DTSTART:20231029T010000
END:STANDARD
BEGIN:DAYLIGHT
TZOFFSETFROM:+0100
TZOFFSETTO:+0200
TZNAME:CEST
DTSTART:20240331T010000
END:DAYLIGHT
BEGIN:STANDARD
TZOFFSETFROM:+0200
TZOFFSETTO:+0100
TZNAME:CET
DTSTART:20241027T010000
END:STANDARD
BEGIN:DAYLIGHT
TZOFFSETFROM:+0100
TZOFFSETTO:+0200
TZNAME:CEST
DTSTART:20250330T010000
END:DAYLIGHT
BEGIN:STANDARD
TZOFFSETFROM:+0200
TZOFFSETTO:+0100
TZNAME:CET
DTSTART:20251026T010000
END:STANDARD
BEGIN:DAYLIGHT
TZOFFSETFROM:+0100
TZOFFSETTO:+0200
TZNAME:CEST
DTSTART:20260329T010000
END:DAYLIGHT
BEGIN:STANDARD
TZOFFSETFROM:+0200
TZOFFSETTO:+0100
TZNAME:CET
DTSTART:20261025T010000
END:STANDARD
END:VTIMEZONE
BEGIN:VTIMEZONE
TZID:Europe/Brussels
BEGIN:DAYLIGHT
TZOFFSETFROM:+0100
TZOFFSETTO:+0200
TZNAME:CEST
DTSTART:20230326T010000
END:DAYLIGHT
BEGIN:STANDARD
TZOFFSETFROM:+0200
TZOFFSETTO:+0100
TZNAME:CET
DTSTART:20231029T010000
END:STANDARD
BEGIN:DAYLIGHT
TZOFFSETFROM:+0100
TZOFFSETTO:+0200
TZNAME:CEST
DTSTART:20240331T010000
END:DAYLIGHT
BEGIN:STANDARD
TZOFFSETFROM:+0200
TZOFFSETTO:+0100
TZNAME:CET
DTSTART:20241027T010000
END:STANDARD
BEGIN:DAYLIGHT
TZOFFSETFROM:+0100
TZOFFSETTO:+0200
TZNAME:CEST
DTSTART:20250330T010000
END:DAYLIGHT
BEGIN:STANDARD
TZOFFSETFROM:+0200
TZOFFSETTO:+0100
TZNAME:CET
DTSTART:20251026T010000
END:STANDARD
END:VTIMEZONE
BEGIN:VTIMEZONE
TZID:Europe/Luxembourg
BEGIN:DAYLIGHT
TZOFFSETFROM:+0100
TZOFFSETTO:+0200
TZNAME:CEST
DTSTART:20230326T010000
END:DAYLIGHT
BEGIN:STANDARD
TZOFFSETFROM:+0200
TZOFFSETTO:+0100
TZNAME:CET
DTSTART:20231029T010000
END:STANDARD
BEGIN:DAYLIGHT
TZOFFSETFROM:+0100
TZOFFSETTO:+0200
TZNAME:CEST
DTSTART:20240331T010000
END:DAYLIGHT
BEGIN:STANDARD
TZOFFSETFROM:+0200
TZOFFSETTO:+0100
TZNAME:CET
DTSTART:20241027T010000
END:STANDARD
BEGIN:DAYLIGHT
TZOFFSETFROM:+0100
TZOFFSETTO:+0200
TZNAME:CEST
DTSTART:20250330T010000
END:DAYLIGHT
BEGIN:STANDARD
TZOFFSETFROM:+0200
TZOFFSETTO:+0100
TZNAME:CET
DTSTART:20251026T010000
END:STANDARD
END:VTIMEZONE
BEGIN:VTIMEZONE
TZID:Atlantic/Azores
BEGIN:DAYLIGHT
TZOFFSETFROM:-0100
TZOFFSETTO:+0000
TZNAME:+00
DTSTART:20230326T010000
END:DAYLIGHT
BEGIN:STANDARD
TZOFFSETFROM:+0000
TZOFFSETTO:-0100
TZNAME:-01
DTSTART:20231029T010000
END:STANDARD
BEGIN:DAYLIGHT
TZOFFSETFROM:-0100
TZOFFSETTO:+0000
TZNAME:+00
DTSTART:20240331T010000
END:DAYLIGHT
BEGIN:STANDARD
TZOFFSETFROM:+0000
TZOFFSETTO:-0100
TZNAME:-01
DTSTART:20241027T010000
END:STANDARD
BEGIN:DAYLIGHT
TZOFFSETFROM:-0100
TZOFFSETTO:+0000
TZNAME:+00
DTSTART:20250330T010000
END:DAYLIGHT
BEGIN:STANDARD
TZOFFSETFROM:+0000
TZOFFSETTO:-0100
TZNAME:-01
DTSTART:20251026T010000
END:STANDARD
END:VTIMEZONE
BEGIN:VTIMEZONE
TZID:UTC
BEGIN:STANDARD
TZOFFSETFROM:+0000
TZOFFSETTO:+0000
TZNAME:UTC
DTSTART:20230101T000000
END:STANDARD
END:VTIMEZONE
BEGIN:VEVENT
DTSTART;TZID=Europe/Amsterdam:20251227T133000
DTEND;TZID=Europe/Amsterdam:20251227T170000
DTSTAMP:20260421T192115
CREATED:20251121T122918Z
LAST-MODIFIED:20251121T123757Z
UID:2269-1766842200-1766854800@archeoaltena.nl
SUMMARY:Snertwandeling rondom Fort giessen
DESCRIPTION:Zaterdag 27 december 2025.\nOp zaterdag 27 december organiseert fort Giessen een wandeling in de wijde omgeving van het fort (ca. 6 km). De wandeling gaat via het Almbos\, door de uiterwaarden van de Maas tussen Rijswijk en de Wilhelminasluis bij Andel en via het dorp Giessen weer terug. Er is gelegenheid om met een gids mee te gaan die ook wat zal vertellen onderweg of u kunt zelfstandig wandelen met een routekaart. Wandelschoenen of laarzen zijn aan te raden.\nHalverwege de wandeling is er een pauze waarbij warme chocolademelk wordt uitgedeeld. Na terugkomst op het fort wacht u een kom erwtensoep en Glühwein.\nU kunt starten tussen 13.30u en 14.00 u vanaf fort Giessen. Tussen 16.00 uur en 17.00 uur verwachten we de wandelaars terug op het Fort.\nInschrijven met naam en 06 nummer en aantal personen is mogelijk t/m 20 december via e-mail: p.o.pruijssers@hetnet.nl\nTevens maakt u € 6\,00 pp. op rekening nummer NL68RABO0137940688 van Archeo-Altena o.v.v. wandeling. \n 
URL:https://archeoaltena.nl/event/snertwandeling-rondom-fort-giessen/
END:VEVENT
BEGIN:VEVENT
DTSTART;TZID=Europe/Amsterdam:20250913T100000
DTEND;TZID=Europe/Amsterdam:20250913T160000
DTSTAMP:20260421T192115
CREATED:20250706T041834Z
LAST-MODIFIED:20250706T042216Z
UID:2248-1757757600-1757779200@archeoaltena.nl
SUMMARY:Zaterdag 13 september Open monumentendag op fort Giessen
DESCRIPTION:Tijdens de Nationale Open Monumentendag op zaterdag 13 september is fort Giessen opengesteld voor publiek. Als u wat meer wilt weten over het fort kunt u mee met een rondleiding die meerdere keren per dag plaatsvindt. Natuurlijk kunt u ook zelf gebouwen en terrein verkennen. Er is een tentoonstelling over WO 1 te bezoeken en er zijn stands van Altenatuur met informatie over weidevogel- en uilenbescherming. In de archeologie ruimte kunt u de geschiedenis zien van de gemeente Altena vanaf de prehistorie tot nu. Natuurlijk mag u het kanon uit 1894 in gebouw C niet overslaan\, een stukje verderop kunt u met een trekpontje overvaren naar het educatie park WO1. Kinderen mogen o.a. muntjes zoeken met een metaaldetector\, pijl en boog schieten\, en pannenkoeken bakken. Het thema van monumentendag 2025 is “Erfgoed en Architectuur”.
URL:https://archeoaltena.nl/event/zaterdag-13-september-open-monumentendag-op-fort-giessen/
END:VEVENT
BEGIN:VEVENT
DTSTART;TZID=Europe/Amsterdam:20250816T130000
DTEND;TZID=Europe/Amsterdam:20250816T170000
DTSTAMP:20260421T192115
CREATED:20250706T041635Z
LAST-MODIFIED:20250706T042120Z
UID:2245-1755349200-1755363600@archeoaltena.nl
SUMMARY:Zaterdag 16 augustus Openstelling fort Giessen
DESCRIPTION:Zaterdag 16 augustus\, 13.00 -17.00 uur Openstelling fort Giessen\nOp zaterdag 16 augustus is fort Giessen weer geopend\, tijdens de open dag kun je op eigen houtje het fort verkennen. Als je wat meer wilt weten over het gebruik van het fort in het verleden en nu\, kun je deelnemen aan een rondleiding om ca. 14.00 u. Er is een tentoonstelling over WO 1 te bezoeken\, en een tentoonstelling over de natuur van Altena o.a. over de vleermuizen in het fort. In de archeologie-ruimte kunt u de geschiedenis zien van de gemeente Altena vanaf de prehistorie tot nu. Natuurlijk mag u het kanon uit 1894 in gebouw C niet overslaan\, verderop kunt u met een trekpontje overvaren naar het educatie park WO1. Kinderen mogen o.a. muntjes zoeken met een detector\, pijl en boog schieten\, en pannenkoeken en tosti’s bakken. Speciaal op deze openstellings-dag is er om 15.00 uur en om 16.00 uur een wandeling over het fortterrein met speciale aandacht voor vlinders en libellen.
URL:https://archeoaltena.nl/event/zaterdag-16-augustus-openstelling-fort-giessen/
END:VEVENT
BEGIN:VEVENT
DTSTART;TZID=Europe/Amsterdam:20250719T130000
DTEND;TZID=Europe/Amsterdam:20250719T170000
DTSTAMP:20260421T192115
CREATED:20250706T040904Z
LAST-MODIFIED:20250706T041109Z
UID:2240-1752930000-1752944400@archeoaltena.nl
SUMMARY:Zaterdag 19 juli\, Openstelling fort Giessen
DESCRIPTION:Zaterdag 19 juli\, 13.00 – 17.00 uur Openstelling fort Giessen\nOp zaterdag 19 juli is fort Giessen weer geopend\, tijdens de open dag kun je op eigen houtje het fort verkennen. Als je wat meer wilt weten over het gebruik van het fort in het verleden en nu\, verzorgen we een rondleiding. Er is een tentoonstelling over WO 1 te bezoeken en een tentoonstelling over de natuur van Altena o.a. over de vleermuizen in het fort. In de archeologie-ruimte kunt u de geschiedenis zien van de gemeente Altena vanaf de prehistorie tot nu. Natuurlijk mag u het kanon uit 1894 in gebouw C niet overslaan\, verderop kunt u met een trekpontje overvaren naar het educatie park WO1. Kinderen mogen o.a. muntjes zoeken met een detector\, met pijl en boog schieten en pannenkoeken en tosti’s bakken. Speciaal op deze openstellings-dag is er om 14.30 uur een rondleiding over het fortterrein over eetbare en medicinale planten.
URL:https://archeoaltena.nl/event/zaterdag-19-juli-openstelling-fort-giessen/
END:VEVENT
BEGIN:VEVENT
DTSTART;TZID=Europe/Amsterdam:20250412T100000
DTEND;TZID=Europe/Amsterdam:20250412T180000
DTSTAMP:20260421T192115
CREATED:20241212T093524Z
LAST-MODIFIED:20250406T060818Z
UID:1995-1744452000-1744480800@archeoaltena.nl
SUMMARY:Archeodag op fort Giessen
DESCRIPTION:Op 12 april organiseert de archeologische vereniging weer een eerste open dag op 12 april in fort Giessen. In samenwerking met fort Giessen beheer http://www.fortbijgiessen.nl  kunnen kinderen en hun ouders vanaf 10.00 tot 16.00u  deelnemen aan diverse projectjes\, zoals munten zoeken met een detector. Kinderen gaan zelf graven in een grote zandbak en onderzoeken wat ze vinden. Ouders kunnen hun kinderen leren om met klei schaaltjes/potjes maken  . Ook deze keer mogen kinderen met pijl en boog schieten. Kinderen mogen ook kleine voorwerpjes maken van speksteen. Er is voor iedereen een hele boel te doen. Voor de jeugd worden er pannenkoeken gebakken. En er zal een botten kenner aanwezig zijn alle botjes die je kunt vinden mag je mee brengen en hij zal vertellen waar ze van zijn. In het fort zal een presentatie zijn over de mooiste archeologische vondsten. En natuurlijk mag u vrij rondlopen (eventueel met gids) in het fort en daar ook de  archeoruimte  bezoeken en bekijken wat er in de bodem van Altena gevonden is. \n 
URL:https://archeoaltena.nl/event/archeodag-op-fort-giessen/
END:VEVENT
BEGIN:VEVENT
DTSTART;TZID=Europe/Amsterdam:20250301T090000
DTEND;TZID=Europe/Amsterdam:20250301T170000
DTSTAMP:20260421T192115
CREATED:20250221T062542Z
LAST-MODIFIED:20250221T062542Z
UID:2127-1740819600-1740848400@archeoaltena.nl
SUMMARY:Leiden 1 maart
DESCRIPTION:Uitnodiging: als bestuur hebben we besloten om op 1 maart 2025 wederom naar het RMO in Leiden te gaan i.v.m. de lopende tentenstelling over de bronstijd. De tentoonstelling loopt tot 16 maart 2025. We vertrekken om 9.oo u. bij ons mooie fort Giessen. Mensen die op eigen gelegenheid gaan graag ook even doorgeven met hoeveel personen ze gaan. Vanaf het fort gaan we carpoolen. \nOpgave : bij John Kollen\, j.kollen@casema.nl of per telefoon 06-54284567.
URL:https://archeoaltena.nl/event/leiden-1-maart/
END:VEVENT
BEGIN:VEVENT
DTSTART;TZID=Europe/Brussels:20241228T130000
DTEND;TZID=Europe/Brussels:20241228T170000
DTSTAMP:20260421T192115
CREATED:20241026T093237Z
LAST-MODIFIED:20241128T105306Z
UID:1961-1735390800-1735405200@archeoaltena.nl
SUMMARY:Kerst/snert wandeling
DESCRIPTION:december 28\, 2024   13:00 – 17:00\n\n\n\nTussen Kerstmis en Nieuwjaar organiseert fort Giessen een wandeling in de wijde omgeving van het fort (ca. 6 km).  De wandeling gaat via het Almbos\, door de uiterwaarden van de Maas tussen Rijswijk en de Wilhelminasluis in Andel. Er is gelegenheid om met een gids mee te gaan die ook wat zal vertellen onderweg of individueel met een routekaart. Goede schoenen of laarzen zijn aan te raden. Halverwege is er gelegenheid voor een kop warme chocolademelk\, en na terugkomst op het fort wacht u een kom erwtensoep en Glühwein. \nU kunt starten tussen 13.00u en 14.00 u vanaf fort Giessen. \nInschrijven met naam en 06 nummer en aantal personen  t/m 20 december via e-mail:  p.o.pruijssers@hetnet.nl  \nTevens maakt u  € 5\,00 pp. op rekening nummer NL68RABO0137940688  van Archeo-Altena  o.v.v. wandeling. \n\n\n\n\n\n Toevoegen aan kalender
URL:https://archeoaltena.nl/event/kerst-snert-wandeling/
END:VEVENT
BEGIN:VEVENT
DTSTART;TZID=Europe/Amsterdam:20241210T193000
DTEND;TZID=Europe/Amsterdam:20241210T193000
DTSTAMP:20260421T192115
CREATED:20241120T122741Z
LAST-MODIFIED:20241120T171542Z
UID:1968-1733859000-1733859000@archeoaltena.nl
SUMMARY:Lezing: De historie van de kleipijp en de komst van tabak naar Nederland
DESCRIPTION:  \n___________________________________________________________________________ \n  \nRuud Stam verzorgt voor de Historische Kring het Oude Land van Heusden en Altena en Archeo Altena op dinsdag 10 december 2024 een lezing met als thema ‘Waarom zijn pijpen zo interessant voor archeologen en historici.’ De lezing is in Fort Giessen\, Giessensesteeg 2 in Giessen. Aanvang 20.00 uur\, inloop vanaf 19.30 uur. \n  \nIn de lezing wordt eerst ingegaan op de historie van de kleipijpennijverheid en de komst van tabak naar ons land. Wie waren de eerste pijpenmakers\, hoe werden de pijpen gemaakt en wat voor soorten pijpen zijn er. Welke productiecentra waren er en welke betekenis hadden deze. Hoe groot was de omvang van deze tak van nijverheid en hoe konden de Goudse pijpen maatgevend worden voor alle pijpenproducties in West-Europa. Met name de pijpen van de productiecentra Gouda\, Leiden\, Amsterdam en Alphen worden in en om Leiden veel gevonden. Ook zal worden ingegaan op hoe pijpen te dateren zijn. \nIn het tweede deel van de lezing  wordt ingegaan op de betekenis voor archeologen van vondsten van pijpen en wat historici kunnen leren van de geschiedenis van de kleipijpennijverheid. Het gaat daarbij om economische-\, sociale-\, kunsthistorische-\, mentaliteit- en techniekgeschiedenis naast algemene geschiedenis. Dit zal worden gedaan aan de hand van een aantal sprekende voorbeelden. \nNa afloop kunnen eventueel meegebrachte vondsten worden gedetermineerd. \n  \nRuud Stam is oorspronkelijk opgeleid als bioloog. Na zijn pensionering is hij gepromoveerd aan de Universiteit Utrecht op de Economische ontwikkeling van de Nederlandse kleipijpennijverheid in de 17e en 18e eeuw\, met speciale aandacht voor de export. Hij is voorzitter van de PKN Stichting voor Onderzoek Historische Tabakspijpen en publiceert o.a. in de bladen en het jaarboek van deze stichting. \n  \nIedereen is welkom. Entree voor niet-leden: vier euro. \n 
URL:https://archeoaltena.nl/event/lezing-de-historie-van-de-kleipijp-en-de-komst-van-tabak-naar-nederland/
END:VEVENT
BEGIN:VEVENT
DTSTART;TZID=Europe/Amsterdam:20240914T100000
DTEND;TZID=Europe/Amsterdam:20240914T170000
DTSTAMP:20260421T192115
CREATED:20240416T092401Z
LAST-MODIFIED:20240418T075831Z
UID:1946-1726308000-1726333200@archeoaltena.nl
SUMMARY:Open monumentendag op fort Giessen 14 september
DESCRIPTION:Tijdens de Nationale Openmonumentendag  op zaterdag 14 september is fort Giessen  opengesteld voor publiek \,Het thema voor 2024 is “Erfgoed van routes\, netwerken en verbindingen”. Toelichting op dit thema volgt later. Verdere programma van het fort volgt nog maar de datum kunt u vast noteren. \n 
URL:https://archeoaltena.nl/event/open-monumentendag-op-fort-giessen-14-september/
END:VEVENT
BEGIN:VEVENT
DTSTART;TZID=Europe/Amsterdam:20240817T080000
DTEND;TZID=Europe/Amsterdam:20240817T170000
DTSTAMP:20260421T192115
CREATED:20240416T092232Z
LAST-MODIFIED:20240418T075650Z
UID:1944-1723881600-1723914000@archeoaltena.nl
SUMMARY:Openstelling fort Giessen 17 augustus
DESCRIPTION:Op zaterdag 17 augustus is fort Giessen weer geopend\, tijdens de open dag kun je op eigen houtje het fort verkennen. Maar gastvrouwen en heren geven u graag informatie over het gebruik van het fort in het verleden en nu en verzorgen een rondleiding om ca. 14.00 u. Er is een tentoonstelling WO 1 te bezoeken\, een tentoonstelling van natuurvereniging  \,\,Altenatuur” over o.a. vleermuizen in het fort. In de archeologie ruimte kunt u de geschiedenis zien van de gemeente Altena vanaf de prehistorie tot nu. Natuurlijk het kanon uit 1894 in gebouw C mag u niet overslaan\, daarna kunt u met een pontje overvaren naar het educatie park WO1.Kinderen mogen o.a. muntjes zoeken met een detector pijl en boog schieten\, pannenkoeken en tosti’s  bakken. Met als bijzonderheid een rondleiding om 15.00u en 16.00u door gidsen van Altenatuur die vertellen over vlinders en libellen
URL:https://archeoaltena.nl/event/openstelling-fort-giessen-17-augustus/
END:VEVENT
BEGIN:VEVENT
DTSTART;TZID=Europe/Amsterdam:20240720T100000
DTEND;TZID=Europe/Amsterdam:20240720T170000
DTSTAMP:20260421T192115
CREATED:20240416T091915Z
LAST-MODIFIED:20240418T075713Z
UID:1942-1721469600-1721494800@archeoaltena.nl
SUMMARY:Openstelling fort Giessen 20 juli
DESCRIPTION:Op zaterdag 20 juli is fort Giessen weer geopend\, tijdens de open dag kun je op eigen houtje het fort verkennen. Maar gastvrouwen en heren geven u graag informatie over het gebruik van het fort in het verleden en nu en verzorgen een rondleiding om ca. 14.00 u. Er is een tentoonstelling WO 1 te bezoeken\, een tentoonstelling van natuurvereniging  \,\,Altenatuur” over o.a. vleermuizen in het fort. In de archeologie ruimte kunt u de geschiedenis zien van de gemeente Altena vanaf de prehistorie tot nu. Natuurlijk het kanon uit 1894 in gebouw C mag u niet overslaan\, daarna kunt u met een pontje overvaren naar het educatie park WO1.Kinderen mogen o.a. muntjes zoeken met een detector pijl en boog schieten\, pannenkoeken en tosti’s  bakken. Met als bijzonderheid een rondleiding om 15.00u  over eetbare en medicinale planten tijdens de rondleiding verzamelen we wat kruiden om bij terug komst om een lekkere kruidenboter en kruidenthee van te maken.
URL:https://archeoaltena.nl/event/openstelling-fort-giessen-20-juli/
END:VEVENT
BEGIN:VEVENT
DTSTART;TZID=Europe/Amsterdam:20240615T130000
DTEND;TZID=Europe/Amsterdam:20240615T170000
DTSTAMP:20260421T192115
CREATED:20240416T091451Z
LAST-MODIFIED:20240418T075734Z
UID:1940-1718456400-1718470800@archeoaltena.nl
SUMMARY:Slootjes dag 15 juni
DESCRIPTION:Zaterdag 15 juni: Slootjesdag op Fort Giessen – Zoektocht in de natuur onder water \nIn het kader van de landelijke slootjesdagen voor jong en oud die het IVN jaarlijks organiseert\, gaan we deze middag beestjes vangen in de gracht rond Fort Giessen. Om 13.30; 14.30; 15.30 en 16.30 uur gaan gidsen met groepen op pad. Als er genoeg bijzondere diertjes zijn geschept gaan we ze op het fort bekijken en op naam brengen.  Ga op onderzoek uit\, gewapend met schepnet\, waterbak en loeppot! Natuurlijk kun je ook wandelen over het fortterrein en door de fortgebouwen\, naar keuze ook onder leiding van een gids. Slootjesdag en openstelling is van 13.00 – 17.00 uur. Deelname en toegang is gratis\, aanmelden niet nodig.
URL:https://archeoaltena.nl/event/slootjes-dag-15-juni/
END:VEVENT
BEGIN:VEVENT
DTSTART;TZID=Europe/Luxembourg:20240518T100000
DTEND;TZID=Europe/Luxembourg:20240518T160000
DTSTAMP:20260421T192115
CREATED:20240416T091205Z
LAST-MODIFIED:20240418T075758Z
UID:1938-1716026400-1716048000@archeoaltena.nl
SUMMARY:Lente op fort Giessen
DESCRIPTION:Zaterdag 18 mei: Lentefort \nArcheo Altena en Altenatuur nodigen tussen 10.00 en 16.00 uur jong en oud uit op Fort Giessen om deel te nemen aan tal van activiteiten met als thema: Lentefort. Voor ieder is er wat te zien en te beleven. \nLeden van de Archeologische vereniging laten zien hoe men leefde in de prehistorie. Kinderen ervaren dit door\, onder meer\, het maken van een pijl en boog\, vuur en een vuurplaats en grottekeningen. Ook kun je muntjes zoeken met een detector\, en je mag pizza bakken. \nLente betekent de start van nieuw leven in de natuur. Kinderen kunnen de dieren een handje helpen door een nestkastje of bijenhotel te maken. Leden van Altenatuur helpen hier bij. \nVerder zijn er diverse stands over onder meer weidevogelbescherming\, uilenbescherming en van Brabants Landschap. Ook kun je rondwandelen over het Fort terrein en genieten van de ontluikende voorjaarsbloemen\, Je kunt zelfstandig een kijkje nemen in het Fortgebouw of om 14.00u kun je met een gids mee  die je alles verteld over het fort  .  Voor ieder is er wat te zien en te beleven. \n 
URL:https://archeoaltena.nl/event/lente-op-fort-giessen-18-mei/
END:VEVENT
BEGIN:VEVENT
DTSTART;TZID=Atlantic/Azores:20240420T100000
DTEND;TZID=Atlantic/Azores:20240420T160000
DTSTAMP:20260421T192115
CREATED:20240211T061921Z
LAST-MODIFIED:20240416T112723Z
UID:1719-1713607200-1713628800@archeoaltena.nl
SUMMARY:Archeologie dag op fort Giessen 20 april
DESCRIPTION:Van 10.00 u tot 16.00 u \nIn het kader van Het weekend van het verdedigingserfgoed  zal deze open dag van fort Giessen in het teken staan van archeologie. In samenwerking met fort Giessen beheer http://www.fortbijgiessen.nl  kunnen kinderen en hun ouders vanaf 10.00 tot 16.00u  deelnemen aan diverse projectjes\, zoals munten zoeken met een detector. Kinderen gaan zelf graven in een grote zandbak en onderzoeken wat ze vinden. Ouders kunnen hun kinderen leren om met klei schaaltjes/potjes maken zoals in de oudheid een koeien huid schoon schrapen met vuurstenen schrapers zoals in de oudheid    En iedereen mag broodjes bakken aan een stok. Ook deze keer mogen kinderen en hun ouders  met pijl en boog schieten      Er is ook een \,kraak de code’ speurtocht uitgezet\, dus voor iedereen is er wat te doen. En er zal een botten kenner aanwezig zijn alle botjes die je kunt vinden mag je mee brengen en hij zal vertellen waar ze van zijn. In het fort zullen twee presentaties zijn 1  over de mooiste archeologische vondsten en 1 over botten van dieren uit het verleden. En natuurlijk mag u vrij rondlopen in het fort en eventueel met een gids. \n 
URL:https://archeoaltena.nl/event/archeologie-dag-op-fort-giessen-20-april/
END:VEVENT
BEGIN:VEVENT
DTSTART;TZID=Europe/Amsterdam:20240416T193000
DTEND;TZID=Europe/Amsterdam:20240416T220000
DTSTAMP:20260421T192115
CREATED:20240307T120120Z
LAST-MODIFIED:20240416T112845Z
UID:1871-1713295800-1713304800@archeoaltena.nl
SUMMARY:Schervenavond 16 april
DESCRIPTION:Op 16 april is de laatste schervenavond van de archeologische vereniging Archeo-Altena op fort Giessen. Op deze avond zal Hans Wijnstekers ook uitleg geven van zijn hobby over fossielen en mag iedereen die botten of botjes heeft gevonden in zijn tuin of waar dan ook\, langs komen om door Hans te laten determineren Heb je scherven of andere spullen in de grond van je tuin  gevonden ook daar mag je mee langs komen. De volgende dag 17 april is er een tentoonstelling ingericht met botjes en haaientanden en kan iedereen en zeker  alle kinderen die komen bekijken  tussen 9.30u tot 12.30u  en s’’ middags van 14.00u tot 16.00u.
URL:https://archeoaltena.nl/event/schervenavond-16-april/
END:VEVENT
BEGIN:VEVENT
DTSTART;TZID=UTC:20240326T193000
DTEND;TZID=UTC:20240326T220000
DTSTAMP:20260421T192115
CREATED:20240215T083101Z
LAST-MODIFIED:20240215T083929Z
UID:1732-1711481400-1711490400@archeoaltena.nl
SUMMARY:Algemene leden vergadering 26 maart
DESCRIPTION:Op 26 maart vind de jaarlijkse algemene ledenvergadering plaats. Voor de pauze komen alle zaken van de vereniging aan de orde en na de pauze is er een lezing door Hans Wijnsteker over paleontologie of te wel botten en fossielen. Paleontologie is een tak van wetenschap die zich bezighoudt met de bestudering van fossielen\, ofwel lang uitgestorven organismen (dieren\, planten\, géén menselijke resten) die sporen hebben achtergelaten in gesteente of aardlagen. Aan de hand van dit materiaal bestuderen paleontologen de aard en evolutie van het leven op aarde in het geologisch verleden. Hans verteld aan de hand van een PowerPoint presentatie over zijn vondsten en belevingen.
URL:https://archeoaltena.nl/event/algemene-leden-vergadering-26-maart/
END:VEVENT
END:VCALENDAR