BEGIN:VCALENDAR
VERSION:2.0
PRODID:-//archeoaltena.nl - ECPv6.15.20//NONSGML v1.0//EN
CALSCALE:GREGORIAN
METHOD:PUBLISH
X-WR-CALNAME:archeoaltena.nl
X-ORIGINAL-URL:https://archeoaltena.nl
X-WR-CALDESC:Evenementen voor archeoaltena.nl
REFRESH-INTERVAL;VALUE=DURATION:PT1H
X-Robots-Tag:noindex
X-PUBLISHED-TTL:PT1H
BEGIN:VTIMEZONE
TZID:Europe/Luxembourg
BEGIN:DAYLIGHT
TZOFFSETFROM:+0100
TZOFFSETTO:+0200
TZNAME:CEST
DTSTART:20230326T010000
END:DAYLIGHT
BEGIN:STANDARD
TZOFFSETFROM:+0200
TZOFFSETTO:+0100
TZNAME:CET
DTSTART:20231029T010000
END:STANDARD
BEGIN:DAYLIGHT
TZOFFSETFROM:+0100
TZOFFSETTO:+0200
TZNAME:CEST
DTSTART:20240331T010000
END:DAYLIGHT
BEGIN:STANDARD
TZOFFSETFROM:+0200
TZOFFSETTO:+0100
TZNAME:CET
DTSTART:20241027T010000
END:STANDARD
BEGIN:DAYLIGHT
TZOFFSETFROM:+0100
TZOFFSETTO:+0200
TZNAME:CEST
DTSTART:20250330T010000
END:DAYLIGHT
BEGIN:STANDARD
TZOFFSETFROM:+0200
TZOFFSETTO:+0100
TZNAME:CET
DTSTART:20251026T010000
END:STANDARD
END:VTIMEZONE
BEGIN:VTIMEZONE
TZID:Atlantic/Azores
BEGIN:DAYLIGHT
TZOFFSETFROM:-0100
TZOFFSETTO:+0000
TZNAME:+00
DTSTART:20230326T010000
END:DAYLIGHT
BEGIN:STANDARD
TZOFFSETFROM:+0000
TZOFFSETTO:-0100
TZNAME:-01
DTSTART:20231029T010000
END:STANDARD
BEGIN:DAYLIGHT
TZOFFSETFROM:-0100
TZOFFSETTO:+0000
TZNAME:+00
DTSTART:20240331T010000
END:DAYLIGHT
BEGIN:STANDARD
TZOFFSETFROM:+0000
TZOFFSETTO:-0100
TZNAME:-01
DTSTART:20241027T010000
END:STANDARD
BEGIN:DAYLIGHT
TZOFFSETFROM:-0100
TZOFFSETTO:+0000
TZNAME:+00
DTSTART:20250330T010000
END:DAYLIGHT
BEGIN:STANDARD
TZOFFSETFROM:+0000
TZOFFSETTO:-0100
TZNAME:-01
DTSTART:20251026T010000
END:STANDARD
END:VTIMEZONE
BEGIN:VTIMEZONE
TZID:Europe/Amsterdam
BEGIN:DAYLIGHT
TZOFFSETFROM:+0100
TZOFFSETTO:+0200
TZNAME:CEST
DTSTART:20230326T010000
END:DAYLIGHT
BEGIN:STANDARD
TZOFFSETFROM:+0200
TZOFFSETTO:+0100
TZNAME:CET
DTSTART:20231029T010000
END:STANDARD
BEGIN:DAYLIGHT
TZOFFSETFROM:+0100
TZOFFSETTO:+0200
TZNAME:CEST
DTSTART:20240331T010000
END:DAYLIGHT
BEGIN:STANDARD
TZOFFSETFROM:+0200
TZOFFSETTO:+0100
TZNAME:CET
DTSTART:20241027T010000
END:STANDARD
BEGIN:DAYLIGHT
TZOFFSETFROM:+0100
TZOFFSETTO:+0200
TZNAME:CEST
DTSTART:20250330T010000
END:DAYLIGHT
BEGIN:STANDARD
TZOFFSETFROM:+0200
TZOFFSETTO:+0100
TZNAME:CET
DTSTART:20251026T010000
END:STANDARD
END:VTIMEZONE
BEGIN:VTIMEZONE
TZID:UTC
BEGIN:STANDARD
TZOFFSETFROM:+0000
TZOFFSETTO:+0000
TZNAME:UTC
DTSTART:20230101T000000
END:STANDARD
END:VTIMEZONE
BEGIN:VEVENT
DTSTART;TZID=Europe/Luxembourg:20240518T100000
DTEND;TZID=Europe/Luxembourg:20240518T160000
DTSTAMP:20260421T210605
CREATED:20240416T091205Z
LAST-MODIFIED:20240418T075758Z
UID:1938-1716026400-1716048000@archeoaltena.nl
SUMMARY:Lente op fort Giessen
DESCRIPTION:Zaterdag 18 mei: Lentefort \nArcheo Altena en Altenatuur nodigen tussen 10.00 en 16.00 uur jong en oud uit op Fort Giessen om deel te nemen aan tal van activiteiten met als thema: Lentefort. Voor ieder is er wat te zien en te beleven. \nLeden van de Archeologische vereniging laten zien hoe men leefde in de prehistorie. Kinderen ervaren dit door\, onder meer\, het maken van een pijl en boog\, vuur en een vuurplaats en grottekeningen. Ook kun je muntjes zoeken met een detector\, en je mag pizza bakken. \nLente betekent de start van nieuw leven in de natuur. Kinderen kunnen de dieren een handje helpen door een nestkastje of bijenhotel te maken. Leden van Altenatuur helpen hier bij. \nVerder zijn er diverse stands over onder meer weidevogelbescherming\, uilenbescherming en van Brabants Landschap. Ook kun je rondwandelen over het Fort terrein en genieten van de ontluikende voorjaarsbloemen\, Je kunt zelfstandig een kijkje nemen in het Fortgebouw of om 14.00u kun je met een gids mee  die je alles verteld over het fort  .  Voor ieder is er wat te zien en te beleven. \n 
URL:https://archeoaltena.nl/event/lente-op-fort-giessen-18-mei/
END:VEVENT
BEGIN:VEVENT
DTSTART;TZID=Atlantic/Azores:20240420T100000
DTEND;TZID=Atlantic/Azores:20240420T160000
DTSTAMP:20260421T210605
CREATED:20240211T061921Z
LAST-MODIFIED:20240416T112723Z
UID:1719-1713607200-1713628800@archeoaltena.nl
SUMMARY:Archeologie dag op fort Giessen 20 april
DESCRIPTION:Van 10.00 u tot 16.00 u \nIn het kader van Het weekend van het verdedigingserfgoed  zal deze open dag van fort Giessen in het teken staan van archeologie. In samenwerking met fort Giessen beheer http://www.fortbijgiessen.nl  kunnen kinderen en hun ouders vanaf 10.00 tot 16.00u  deelnemen aan diverse projectjes\, zoals munten zoeken met een detector. Kinderen gaan zelf graven in een grote zandbak en onderzoeken wat ze vinden. Ouders kunnen hun kinderen leren om met klei schaaltjes/potjes maken zoals in de oudheid een koeien huid schoon schrapen met vuurstenen schrapers zoals in de oudheid    En iedereen mag broodjes bakken aan een stok. Ook deze keer mogen kinderen en hun ouders  met pijl en boog schieten      Er is ook een \,kraak de code’ speurtocht uitgezet\, dus voor iedereen is er wat te doen. En er zal een botten kenner aanwezig zijn alle botjes die je kunt vinden mag je mee brengen en hij zal vertellen waar ze van zijn. In het fort zullen twee presentaties zijn 1  over de mooiste archeologische vondsten en 1 over botten van dieren uit het verleden. En natuurlijk mag u vrij rondlopen in het fort en eventueel met een gids. \n 
URL:https://archeoaltena.nl/event/archeologie-dag-op-fort-giessen-20-april/
END:VEVENT
BEGIN:VEVENT
DTSTART;TZID=Europe/Amsterdam:20240416T193000
DTEND;TZID=Europe/Amsterdam:20240416T220000
DTSTAMP:20260421T210605
CREATED:20240307T120120Z
LAST-MODIFIED:20240416T112845Z
UID:1871-1713295800-1713304800@archeoaltena.nl
SUMMARY:Schervenavond 16 april
DESCRIPTION:Op 16 april is de laatste schervenavond van de archeologische vereniging Archeo-Altena op fort Giessen. Op deze avond zal Hans Wijnstekers ook uitleg geven van zijn hobby over fossielen en mag iedereen die botten of botjes heeft gevonden in zijn tuin of waar dan ook\, langs komen om door Hans te laten determineren Heb je scherven of andere spullen in de grond van je tuin  gevonden ook daar mag je mee langs komen. De volgende dag 17 april is er een tentoonstelling ingericht met botjes en haaientanden en kan iedereen en zeker  alle kinderen die komen bekijken  tussen 9.30u tot 12.30u  en s’’ middags van 14.00u tot 16.00u.
URL:https://archeoaltena.nl/event/schervenavond-16-april/
END:VEVENT
BEGIN:VEVENT
DTSTART;TZID=UTC:20240326T193000
DTEND;TZID=UTC:20240326T220000
DTSTAMP:20260421T210605
CREATED:20240215T083101Z
LAST-MODIFIED:20240215T083929Z
UID:1732-1711481400-1711490400@archeoaltena.nl
SUMMARY:Algemene leden vergadering 26 maart
DESCRIPTION:Op 26 maart vind de jaarlijkse algemene ledenvergadering plaats. Voor de pauze komen alle zaken van de vereniging aan de orde en na de pauze is er een lezing door Hans Wijnsteker over paleontologie of te wel botten en fossielen. Paleontologie is een tak van wetenschap die zich bezighoudt met de bestudering van fossielen\, ofwel lang uitgestorven organismen (dieren\, planten\, géén menselijke resten) die sporen hebben achtergelaten in gesteente of aardlagen. Aan de hand van dit materiaal bestuderen paleontologen de aard en evolutie van het leven op aarde in het geologisch verleden. Hans verteld aan de hand van een PowerPoint presentatie over zijn vondsten en belevingen.
URL:https://archeoaltena.nl/event/algemene-leden-vergadering-26-maart/
END:VEVENT
END:VCALENDAR